BEGIN:VCALENDAR
VERSION:2.0
PRODID:-//Brewers Social Club - ECPv6.15.20//NONSGML v1.0//EN
CALSCALE:GREGORIAN
METHOD:PUBLISH
X-WR-CALNAME:Brewers Social Club
X-ORIGINAL-URL:https://brewerssocialclub.com
X-WR-CALDESC:Évènements pour Brewers Social Club
REFRESH-INTERVAL;VALUE=DURATION:PT1H
X-Robots-Tag:noindex
X-PUBLISHED-TTL:PT1H
BEGIN:VTIMEZONE
TZID:Europe/Paris
BEGIN:DAYLIGHT
TZOFFSETFROM:+0100
TZOFFSETTO:+0200
TZNAME:CEST
DTSTART:20240331T010000
END:DAYLIGHT
BEGIN:STANDARD
TZOFFSETFROM:+0200
TZOFFSETTO:+0100
TZNAME:CET
DTSTART:20241027T010000
END:STANDARD
BEGIN:DAYLIGHT
TZOFFSETFROM:+0100
TZOFFSETTO:+0200
TZNAME:CEST
DTSTART:20250330T010000
END:DAYLIGHT
BEGIN:STANDARD
TZOFFSETFROM:+0200
TZOFFSETTO:+0100
TZNAME:CET
DTSTART:20251026T010000
END:STANDARD
BEGIN:DAYLIGHT
TZOFFSETFROM:+0100
TZOFFSETTO:+0200
TZNAME:CEST
DTSTART:20260329T010000
END:DAYLIGHT
BEGIN:STANDARD
TZOFFSETFROM:+0200
TZOFFSETTO:+0100
TZNAME:CET
DTSTART:20261025T010000
END:STANDARD
END:VTIMEZONE
BEGIN:VEVENT
DTSTART;VALUE=DATE:20251122
DTEND;VALUE=DATE:20251124
DTSTAMP:20260422T180841
CREATED:20250730T075244Z
LAST-MODIFIED:20250805T125526Z
UID:486-1763769600-1763942399@brewerssocialclub.com
SUMMARY:Bière à Lille
DESCRIPTION:Photo de profil de bierealille\nbierealille\n🍻Le festival Bière à Lille revient en 2025 et avec lui son grand weekend de clôture à la Gare Saint-Sauveur. Au programme\, des brasseries\, des foodtrucks\, des chefs\, des animations et vous. \n⏳Les infos arrivent prochainement\, mais vous pouvez déjà bloquer la date. \nen 2025\, le BAL revient  \nDU 17 AU 21 NOVEMBRE\nDANS TOUTE LA METROPOLE \nDU 22 AU 23 NOVEMBRE\nWEEKEND DE CLÔTURE\nGARE SAINT-SAUVEUR A LILLE \npourquoi LE BAL ? \nParce que l’image de la bière change\,\nParce que Lille est et restera toujours associée à la culture brassicole\,\nParce que la bière est multiple et diverse\,\nParce que la bière est produit de dégustation noble. \n​ \nLe BAL – Bière à Lille c’est le festival de la bière et de la culture brassicole dans la métropole lilloise. Une série d’événements ludiques dans les bars\, restaurants et lieux publics qui visent à créer des ponts entre le monde de la bière et la culture\, le patrimoine\, la gastronomie. \n​Créé en  2017\, le BAL confirme depuis l’engouement pour la bière avec 7 éditions complétement folles.\nLe BAL revient en 2025 pour vous régaler avec une semaine d’événements dans la Métropole de Lille et un weekend de clôture à la Gare Saint-Sauveur. Gourmandise\, découvertes et convivialité seront au programme.\nSuivez-nous sur les réseaux sociaux pour ne pas en louper une goutte ! \n🇪🇸 Bienvenida à l’Espagne 🇪🇸 \nOn est ravis de vous annoncer que le pays invité de l’édition 2025 de Bière à Lille sera l’Espagne\, avec 6 (très) belles brasseries au rendez-vous. \nVous le savez peut-être (ou peut-être pas\, donc on vous le dit)\, la grande saison culturelle de @lille3000 en 2025 sera sur le thème FIESTA. Mot d’origine espagnole\, que nous avons choisi de mettre à l’honneur et d’interpréter à notre façon👉 en vous proposant parmi ce qu’il se fait de mieux sur la scène brassicole hispanique. \nVoici donc vos Avengers de la cerveza artesanal : \n🍺 @grossbrewing\n🍺 @garagebeerco\n🍺@laugarbrewery\n🍺 @osobrewco\n🍺 @somabeer\n🍺 @metaedabeak \nOn espère que l’annonce de ces 6 beaux noms vous fait autant plaisir qu’à nous et que vous allez kiffer goûter l’Espagne.
URL:https://brewerssocialclub.com/event/biere-a-lille/
LOCATION:BAL\, 17 Bd Jean-Baptiste Lebas\, LILLE\, 59800\, France
CATEGORIES:Festivals
ATTACH;FMTTYPE=image/webp:https://brewerssocialclub.com/wp-content/uploads/2025/07/BAL.webp
END:VEVENT
END:VCALENDAR