BEGIN:VCALENDAR
VERSION:2.0
PRODID:-//Brewers Social Club - ECPv6.15.20//NONSGML v1.0//EN
CALSCALE:GREGORIAN
METHOD:PUBLISH
X-WR-CALNAME:Brewers Social Club
X-ORIGINAL-URL:https://brewerssocialclub.com
X-WR-CALDESC:Évènements pour Brewers Social Club
REFRESH-INTERVAL;VALUE=DURATION:PT1H
X-Robots-Tag:noindex
X-PUBLISHED-TTL:PT1H
BEGIN:VTIMEZONE
TZID:Europe/Paris
BEGIN:DAYLIGHT
TZOFFSETFROM:+0100
TZOFFSETTO:+0200
TZNAME:CEST
DTSTART:20240331T010000
END:DAYLIGHT
BEGIN:STANDARD
TZOFFSETFROM:+0200
TZOFFSETTO:+0100
TZNAME:CET
DTSTART:20241027T010000
END:STANDARD
BEGIN:DAYLIGHT
TZOFFSETFROM:+0100
TZOFFSETTO:+0200
TZNAME:CEST
DTSTART:20250330T010000
END:DAYLIGHT
BEGIN:STANDARD
TZOFFSETFROM:+0200
TZOFFSETTO:+0100
TZNAME:CET
DTSTART:20251026T010000
END:STANDARD
BEGIN:DAYLIGHT
TZOFFSETFROM:+0100
TZOFFSETTO:+0200
TZNAME:CEST
DTSTART:20260329T010000
END:DAYLIGHT
BEGIN:STANDARD
TZOFFSETFROM:+0200
TZOFFSETTO:+0100
TZNAME:CET
DTSTART:20261025T010000
END:STANDARD
END:VTIMEZONE
BEGIN:VEVENT
DTSTART;TZID=Europe/Paris:20251114T160000
DTEND;TZID=Europe/Paris:20251114T170000
DTSTAMP:20260422T163502
CREATED:20251017T112809Z
LAST-MODIFIED:20251017T112809Z
UID:1335-1763136000-1763139600@brewerssocialclub.com
SUMMARY:Soirée TTO Elixkir chez Bieronomy Seynod — 14 novembre 2025
DESCRIPTION:Ce vendredi 14 novembre\, on consacre toutes (ou presque) nos lignes de tirage à l’une de nos brasseries coup de cœur : Elixkir (Quetigny\, Côte-d’Or). Depuis nos débuts chez Bieronomy\, on défend leurs bières au comptoir comme en cave — il était temps de leur offrir une nouvelle soirée 100 % Elixkir. \nPourquoi venir ?\n\nTap Take Over : au moins 7 cuvées à la pression\, dont nouveautés et éphémères (tap list complète annoncée juste avant l’événement).\nClassiques maîtrisés & créations pointues : attendez-vous à croiser des références comme IBU Profane\, Triple Sans Foi Ni Loi\, La Rude École\, La Loi de Darcy\, Le Péché du Chanoine… et quelques surprises (parfois passées en barriques).\nShop bien garni : toute la gamme en bouteilles sera dispo côté cave pour repartir avec vos favorites.\n\nC’est quoi un TTO ?\nUn Tap Take Over (= TTO) c’est simple : une brasserie prend le contrôle de nos becs. Résultat : une vision panoramique de son style\, de ses recettes et de son savoir-faire. Parfait pour comparer les profils (IPA\, lagers\, sours\, stouts…) et trouver votre coup de cœur. \nL’ambiance Bieronomy\nBar & cave\, planches apéritives\, grande terrasse\, fléchettes et terrain de pétanque pour prolonger la soirée. Vins\, softs artisanaux et spiritueux (pour les accompagnants) complètent la sélection. \nInfos pratiques\n\nDate : vendredi 14 novembre 2025\nHeures : à partir de 17h jusqu’à minuit (possible prolongation selon affluence)\nLieu : Bieronomy Seynod — 1152\, avenue d’Aix-les-Bains\, 74600 Seynod / Annecy (Chaux-Balmont)\nAccès : parking gratuit juste derrière le bar & cave • sortie d’autoroute Seynod-Sud à proximité\nTap list : publiée sur nos réseaux quelques jours avant\n\n\nÀ très vite pour saluer l’équipe d’Elixkir au comptoir et lever nos verres à la craft française ! \nL’abus d’alcool est dangereux pour la santé\, à consommer avec modération.
URL:https://brewerssocialclub.com/event/soiree-tto-elixkir-chez-bieronomy-seynod-14-novembre-2025/
LOCATION:Bieronomy Syenod\, 1152 Av. d'Aix-les-Bains\, Annecy\, 74600
CATEGORIES:TTO
ATTACH;FMTTYPE=image/png:https://brewerssocialclub.com/wp-content/uploads/2025/10/TTO-elixkir-Bieronomyseynod.png
END:VEVENT
END:VCALENDAR