BEGIN:VCALENDAR
VERSION:2.0
PRODID:-//Brewers Social Club - ECPv6.15.20//NONSGML v1.0//EN
CALSCALE:GREGORIAN
METHOD:PUBLISH
X-WR-CALNAME:Brewers Social Club
X-ORIGINAL-URL:https://brewerssocialclub.com
X-WR-CALDESC:Évènements pour Brewers Social Club
REFRESH-INTERVAL;VALUE=DURATION:PT1H
X-Robots-Tag:noindex
X-PUBLISHED-TTL:PT1H
BEGIN:VTIMEZONE
TZID:Europe/Paris
BEGIN:DAYLIGHT
TZOFFSETFROM:+0100
TZOFFSETTO:+0200
TZNAME:CEST
DTSTART:20240331T010000
END:DAYLIGHT
BEGIN:STANDARD
TZOFFSETFROM:+0200
TZOFFSETTO:+0100
TZNAME:CET
DTSTART:20241027T010000
END:STANDARD
BEGIN:DAYLIGHT
TZOFFSETFROM:+0100
TZOFFSETTO:+0200
TZNAME:CEST
DTSTART:20250330T010000
END:DAYLIGHT
BEGIN:STANDARD
TZOFFSETFROM:+0200
TZOFFSETTO:+0100
TZNAME:CET
DTSTART:20251026T010000
END:STANDARD
BEGIN:DAYLIGHT
TZOFFSETFROM:+0100
TZOFFSETTO:+0200
TZNAME:CEST
DTSTART:20260329T010000
END:DAYLIGHT
BEGIN:STANDARD
TZOFFSETFROM:+0200
TZOFFSETTO:+0100
TZNAME:CET
DTSTART:20261025T010000
END:STANDARD
END:VTIMEZONE
BEGIN:VEVENT
DTSTART;VALUE=DATE:20251107
DTEND;VALUE=DATE:20251109
DTSTAMP:20260422T192135
CREATED:20250806T112943Z
LAST-MODIFIED:20250806T112943Z
UID:511-1762473600-1762646399@brewerssocialclub.com
SUMMARY:Annecy Beer Fest
DESCRIPTION:𝗔𝗻𝗻𝗲𝗰𝘆 𝗕𝗲𝗲𝗿 𝗙𝗲𝘀𝘁 𝗿𝗲𝘃𝗶𝗲𝗻𝘁 𝗹𝗲𝘀 𝟳 𝗲𝘁 𝟴 𝗻𝗼𝘃𝗲𝗺𝗯𝗿𝗲 𝟮𝟬𝟮𝟱 \n🍻 Plus de 20 brasseries et micro-brasseries régionales\n🍻 Restauration\, DJ set\, Animations\n🍻 Un événement à but non lucratif organisé par Rotary Club Annecy\nLes bénéfices sont intégralement reversés au profit d’associations (aide à l’enfance\, accès à l’eau et aux soins de santé\, construction de la paix) \nAmateurs de craft beer\, ne manquez pas ce rendez-vous incontournable au cœur des Alpes ! \n🎟️ La billetterie ouvre bientôt… Cette année\, une dégustation est incluse dans le billet. \n📍Espace Rencontre\, 39 route de Thônes\, Annecy
URL:https://brewerssocialclub.com/event/annecy-beer-fest/
LOCATION:Annecy Beer Fest\, 39 Route de Thônes\, Annecy\, 74940\, France
CATEGORIES:Festivals
ATTACH;FMTTYPE=image/webp:https://brewerssocialclub.com/wp-content/uploads/2025/08/Annecy-beer-fest-2025.webp
END:VEVENT
BEGIN:VEVENT
DTSTART;TZID=Europe/Paris:20251107T170000
DTEND;TZID=Europe/Paris:20251108T230000
DTSTAMP:20260422T192135
CREATED:20251022T073830Z
LAST-MODIFIED:20251022T073935Z
UID:1339-1762534800-1762642800@brewerssocialclub.com
SUMMARY:Le Brewers Social Club au Annecy Beer Fest
DESCRIPTION:Le Brewers Social Club débarque au Annecy Beer Fest 2025 pour un week-end 100 % houblonné ! 🎉Rendez-vous les vendredi 7 et samedi 8 novembre pour partager notre passion commune autour de la bière artisanale et du brassage amateur. \nSur notre stand\, vous pourrez déguster nos bières issues de brassins collaboratifs\, mais aussi participer à une animation brassage en direct. L’occasion idéale de découvrir toutes les étapes de fabrication d’une bière artisanale\, d’échanger avec nos membres et de poser toutes vos questions sur le monde du brassam’. \nNotre objectif ? Faire découvrir le plaisir de brasser soi-même\, créer du lien entre passionnés et mettre en avant le savoir-faire local. Que vous soyez curieux\, amateur ou déjà brasseur\, vous êtes les bienvenus ! \n👉 Dates : 7 et 8 novembre 2025👉 Lieu : Annecy Beer Fest👉 Au programme : dégustations\, démonstrations\, rencontres\, convivialité et bonne humeur garantie 🍻 \nVenez partager un moment authentique et (très) mousseux avec le Brewers Social Club !
URL:https://brewerssocialclub.com/event/le-brewers-social-club-au-annecy-beer-fest/
LOCATION:Annecy Beer Fest\, 39 Route de Thônes\, Annecy\, 74940\, France
CATEGORIES:Brewers Social Club,Festivals
ATTACH;FMTTYPE=image/png:https://brewerssocialclub.com/wp-content/uploads/2025/10/brewerssocialclub-annecybeerfest.png
END:VEVENT
END:VCALENDAR