BEGIN:VCALENDAR
VERSION:2.0
PRODID:-//Brewers Social Club - ECPv6.15.20//NONSGML v1.0//EN
CALSCALE:GREGORIAN
METHOD:PUBLISH
X-ORIGINAL-URL:https://brewerssocialclub.com
X-WR-CALDESC:Évènements pour Brewers Social Club
REFRESH-INTERVAL;VALUE=DURATION:PT1H
X-Robots-Tag:noindex
X-PUBLISHED-TTL:PT1H
BEGIN:VTIMEZONE
TZID:Europe/Paris
BEGIN:DAYLIGHT
TZOFFSETFROM:+0100
TZOFFSETTO:+0200
TZNAME:CEST
DTSTART:20240331T010000
END:DAYLIGHT
BEGIN:STANDARD
TZOFFSETFROM:+0200
TZOFFSETTO:+0100
TZNAME:CET
DTSTART:20241027T010000
END:STANDARD
BEGIN:DAYLIGHT
TZOFFSETFROM:+0100
TZOFFSETTO:+0200
TZNAME:CEST
DTSTART:20250330T010000
END:DAYLIGHT
BEGIN:STANDARD
TZOFFSETFROM:+0200
TZOFFSETTO:+0100
TZNAME:CET
DTSTART:20251026T010000
END:STANDARD
BEGIN:DAYLIGHT
TZOFFSETFROM:+0100
TZOFFSETTO:+0200
TZNAME:CEST
DTSTART:20260329T010000
END:DAYLIGHT
BEGIN:STANDARD
TZOFFSETFROM:+0200
TZOFFSETTO:+0100
TZNAME:CET
DTSTART:20261025T010000
END:STANDARD
END:VTIMEZONE
BEGIN:VEVENT
DTSTART;TZID=Europe/Paris:20250920T080000
DTEND;TZID=Europe/Paris:20251005T170000
DTSTAMP:20260422T181222
CREATED:20250724T113255Z
LAST-MODIFIED:20250725T133753Z
UID:97-1758355200-1759683600@brewerssocialclub.com
SUMMARY:Oktoberfest
DESCRIPTION:📅 Dates 2025 : du 20 septembre au 5 octobre\nL’Oktoberfest est bien plus qu’une fête de la bière. C’est un événement culturel\, historique et festif qui attire chaque année des millions de visiteurs à Munich\, en Allemagne. Entre traditions bavaroises\, bières servies par litre et ambiance délirante\, cette fête est devenue un rendez-vous mondial pour les amateurs de houblon… et bien plus. \n🏰 Origines royales\nTout commence en 1810\, lorsque le prince Louis de Bavière (futur roi Louis Ier) épouse la princesse Thérèse de Saxe-Hildburghausen. Pour fêter l’événement\, une grande course de chevaux est organisée à Munich\, sur la plaine appelée depuis Theresienwiese (le « pré de Thérèse »). L’événement a tellement plu qu’il fut reconduit l’année suivante… avec de la bière en plus. L’Oktoberfest était née.\n🧭 Pourquoi ça s’appelle « Oktoberfest » si ça commence en septembre ?\nUne question fréquente !\nLa fête débute en septembre pour profiter de températures plus clémentes à Munich. Mais comme elle se termine toujours début octobre\, le nom d’Oktoberfest est resté. \n🎉 En résumé\n📍 Oktoberfest 2025 : du 20 septembre au 5 octobre à Munich. \n🍺 Un événement qui mêle tradition\, folklore\, gastronomie et houblon. \n🌍 Un phénomène mondial\, même hors d’Allemagne. \n🥳 Un moment parfait pour lever son verre\, que vous soyez à Munich… ou chez vous !
URL:https://brewerssocialclub.com/event/oktoberfest/
CATEGORIES:Date à retenir
ATTACH;FMTTYPE=image/gif:https://brewerssocialclub.com/wp-content/uploads/2025/07/Chevy-Chase-Dancing-GIF.gif
END:VEVENT
BEGIN:VEVENT
DTSTART;TZID=Europe/Paris:20251002T200000
DTEND;TZID=Europe/Paris:20251003T010000
DTSTAMP:20260422T181222
CREATED:20250914T175215Z
LAST-MODIFIED:20250914T175215Z
UID:1131-1759435200-1759453200@brewerssocialclub.com
SUMMARY:Oktoberfest chez Bieronomy Seynod
DESCRIPTION:Chez Bieronomy\, on aime autant la « craft »\, la bière artisanale\, que les vraies bonnes bières traditionnelles et ancestrales. L’Allemagne est l’une de ces contrées maitresses en matière de tradition brassicole. Depuis plus de 200 ans\, Munich fête la bière chaque année avec sa célèbre Oktoberfest. Bieronomy se joint à l’événement pour la première fois 🍻 \nVenez goûter toute la gamme Paulaner\, la brasserie emblématique Munichoise\, la plus populaire de l’Oktoberfest ainsi qu’une large gamme de bouteilles de bières bavaroises et allemandes 🇩🇪 \nDéroulement sur 2 jours : \n\nJeudi 2 octobre :\n– « L’histoire d’Oktoberfest »\, dégustation commentée et animée par Nicolas Dumortier alias Niko D alias Nicholas Dehrmeyer\n– Début de l’événement à 18h/18h30\, fin vers 23h. Atelier dégustation de 19h30 à 21h\n\n\nVendredi 3 octobre :\n– Soirée festive pour l’Oktoberfest\n– Musique / Mix par DJ Crys L\nhttps://www.instagram.com/cryslmusic\nhttps://soundcloud.com/art-chris-l\n– Food-truck « Chez Mat Gourmand » : https://www.instagram.com/chez_math_gourmand_/\n– Début de l’événement à 17h\, fin vers 00h/01h\n\nLe tout avec 8 bières servies à la pression dont 6 Paulaner : Blonde Munich 4\,9% / Weissbier 5\,5% / Salvator 7\,9% / St Thomas 6\,8% / Zwickl 5\,5% / Oktoberfest 6% \nPlus de détails à venir… 😉🎉
URL:https://brewerssocialclub.com/event/oktoberfest-chez-bieronomy-seynod/
LOCATION:Bieronomy Syenod\, 1152 Av. d'Aix-les-Bains\, Annecy\, 74600
CATEGORIES:Fetes
ATTACH;FMTTYPE=image/png:https://brewerssocialclub.com/wp-content/uploads/2025/09/oktoberfest-bieronomy.png
END:VEVENT
BEGIN:VEVENT
DTSTART;VALUE=DATE:20251003
DTEND;VALUE=DATE:20251005
DTSTAMP:20260422T181222
CREATED:20250730T073316Z
LAST-MODIFIED:20250730T073316Z
UID:474-1759449600-1759622399@brewerssocialclub.com
SUMMARY:Metz Beer Fest
DESCRIPTION:Edition 2025\nLe houblon fait son show à Metz ! \nLa 5ᵉ édition du Metz Beer Fest débarque plus pétillante que jamais ! \nDes brasseurs passionnés\, des mousses de caractère et une ambiance à faire mousser vos papilles : le rendez-vous brassé à ne surtout pas rater ! \nPhoto de profil de metzbeerfest\nmetzbeerfest\n🔥 BILLETTERIE MBF 2025 🔥 \nLet the tickets and tokens take control!! \n🎟️ Ouverte jusqu’au jeudi 2 octobre à minuit\, la billetterie te permet de profiter des préventes à prix réduit ! ⏳ \n🎟️ Ticketing Helloasso : https://urlr.me/PkS3pZ\n(Lien en Bio) \nCette année\, rien ne change ! \n🍺 To Pass 1J vaut 7€\n🍻 Ton Pass 2J vaut 12€\n🪙 1 jeton / token vaut 1€\, et tu en as 11 pour 10€ ! \nChaque entrée s’accompagne du verre de dégustation officiel 2025 🍸 \n👉 Les étudiant-es bénéficient encore de réductions\, sur présentation d’un justificatif valable 🎉\nPass 1J = 5€\nPass 2J = 10€ \nLes Ateliers de Dégustation seront bientôt publiés en ligne sur le même lien Helloasso 🌿 \nLes personnes de -16 ans accompagné-es rentrent gratuitement sur Bliiida. Mais la consommation d’alcool est autorisée à partir de 18 ans 😉 \nLes Tap Take Over durant le Warm Up / la Semaine de Préchauffe sont gratuits car organisés dans les bars partenaires du festival. \nℹ️ INFOS\n👉 Cette année\, penser à différencier sa prévente 1jour entre le vendredi et le samedi\n👉 Les 🪙 des années précédentes sont réutilisables sur place\n👉 Les Beer Lovers ayant un Pass 2J gardent leur verre pour le lendemain (le Vest Bière est ton ami !)\n👉 Horaires du Vendredi : 18h-00h\n👉 Horaires du Samedi : 14h-00h \nMetz Beer Fest à @bliiida le 3 et 4 octobre 🍻 \n… Si tu as d’autres questions\, n’hésite pas !
URL:https://brewerssocialclub.com/event/metz-beer-fest/
LOCATION:Metz Beer Fest\, 7 avenue de Blida\, Metz\, 57000\, France
CATEGORIES:Festivals
ATTACH;FMTTYPE=image/webp:https://brewerssocialclub.com/wp-content/uploads/2025/07/Affiche_MTZBEERFEST-25_BOCCALITOLAND-scaled-1.webp
END:VEVENT
END:VCALENDAR