BEGIN:VCALENDAR
VERSION:2.0
PRODID:-//Brewers Social Club - ECPv6.15.20//NONSGML v1.0//EN
CALSCALE:GREGORIAN
METHOD:PUBLISH
X-ORIGINAL-URL:https://brewerssocialclub.com
X-WR-CALDESC:Évènements pour Brewers Social Club
REFRESH-INTERVAL;VALUE=DURATION:PT1H
X-Robots-Tag:noindex
X-PUBLISHED-TTL:PT1H
BEGIN:VTIMEZONE
TZID:Europe/Paris
BEGIN:DAYLIGHT
TZOFFSETFROM:+0100
TZOFFSETTO:+0200
TZNAME:CEST
DTSTART:20240331T010000
END:DAYLIGHT
BEGIN:STANDARD
TZOFFSETFROM:+0200
TZOFFSETTO:+0100
TZNAME:CET
DTSTART:20241027T010000
END:STANDARD
BEGIN:DAYLIGHT
TZOFFSETFROM:+0100
TZOFFSETTO:+0200
TZNAME:CEST
DTSTART:20250330T010000
END:DAYLIGHT
BEGIN:STANDARD
TZOFFSETFROM:+0200
TZOFFSETTO:+0100
TZNAME:CET
DTSTART:20251026T010000
END:STANDARD
BEGIN:DAYLIGHT
TZOFFSETFROM:+0100
TZOFFSETTO:+0200
TZNAME:CEST
DTSTART:20260329T010000
END:DAYLIGHT
BEGIN:STANDARD
TZOFFSETFROM:+0200
TZOFFSETTO:+0100
TZNAME:CET
DTSTART:20261025T010000
END:STANDARD
END:VTIMEZONE
BEGIN:VEVENT
DTSTART;TZID=Europe/Paris:20250920T080000
DTEND;TZID=Europe/Paris:20251005T170000
DTSTAMP:20260423T011103
CREATED:20250724T113255Z
LAST-MODIFIED:20250725T133753Z
UID:97-1758355200-1759683600@brewerssocialclub.com
SUMMARY:Oktoberfest
DESCRIPTION:📅 Dates 2025 : du 20 septembre au 5 octobre\nL’Oktoberfest est bien plus qu’une fête de la bière. C’est un événement culturel\, historique et festif qui attire chaque année des millions de visiteurs à Munich\, en Allemagne. Entre traditions bavaroises\, bières servies par litre et ambiance délirante\, cette fête est devenue un rendez-vous mondial pour les amateurs de houblon… et bien plus. \n🏰 Origines royales\nTout commence en 1810\, lorsque le prince Louis de Bavière (futur roi Louis Ier) épouse la princesse Thérèse de Saxe-Hildburghausen. Pour fêter l’événement\, une grande course de chevaux est organisée à Munich\, sur la plaine appelée depuis Theresienwiese (le « pré de Thérèse »). L’événement a tellement plu qu’il fut reconduit l’année suivante… avec de la bière en plus. L’Oktoberfest était née.\n🧭 Pourquoi ça s’appelle « Oktoberfest » si ça commence en septembre ?\nUne question fréquente !\nLa fête débute en septembre pour profiter de températures plus clémentes à Munich. Mais comme elle se termine toujours début octobre\, le nom d’Oktoberfest est resté. \n🎉 En résumé\n📍 Oktoberfest 2025 : du 20 septembre au 5 octobre à Munich. \n🍺 Un événement qui mêle tradition\, folklore\, gastronomie et houblon. \n🌍 Un phénomène mondial\, même hors d’Allemagne. \n🥳 Un moment parfait pour lever son verre\, que vous soyez à Munich… ou chez vous !
URL:https://brewerssocialclub.com/event/oktoberfest/
CATEGORIES:Date à retenir
ATTACH;FMTTYPE=image/gif:https://brewerssocialclub.com/wp-content/uploads/2025/07/Chevy-Chase-Dancing-GIF.gif
END:VEVENT
END:VCALENDAR