BEGIN:VCALENDAR
VERSION:2.0
PRODID:-//Brewers Social Club - ECPv6.15.20//NONSGML v1.0//EN
CALSCALE:GREGORIAN
METHOD:PUBLISH
X-ORIGINAL-URL:https://brewerssocialclub.com
X-WR-CALDESC:Évènements pour Brewers Social Club
REFRESH-INTERVAL;VALUE=DURATION:PT1H
X-Robots-Tag:noindex
X-PUBLISHED-TTL:PT1H
BEGIN:VTIMEZONE
TZID:Europe/Paris
BEGIN:DAYLIGHT
TZOFFSETFROM:+0100
TZOFFSETTO:+0200
TZNAME:CEST
DTSTART:20240331T010000
END:DAYLIGHT
BEGIN:STANDARD
TZOFFSETFROM:+0200
TZOFFSETTO:+0100
TZNAME:CET
DTSTART:20241027T010000
END:STANDARD
BEGIN:DAYLIGHT
TZOFFSETFROM:+0100
TZOFFSETTO:+0200
TZNAME:CEST
DTSTART:20250330T010000
END:DAYLIGHT
BEGIN:STANDARD
TZOFFSETFROM:+0200
TZOFFSETTO:+0100
TZNAME:CET
DTSTART:20251026T010000
END:STANDARD
BEGIN:DAYLIGHT
TZOFFSETFROM:+0100
TZOFFSETTO:+0200
TZNAME:CEST
DTSTART:20260329T010000
END:DAYLIGHT
BEGIN:STANDARD
TZOFFSETFROM:+0200
TZOFFSETTO:+0100
TZNAME:CET
DTSTART:20261025T010000
END:STANDARD
END:VTIMEZONE
BEGIN:VEVENT
DTSTART;VALUE=DATE:20250913
DTEND;VALUE=DATE:20250915
DTSTAMP:20260423T011111
CREATED:20250730T071313Z
LAST-MODIFIED:20250730T071313Z
UID:456-1757721600-1757894399@brewerssocialclub.com
SUMMARY:Nantes Sous pression
DESCRIPTION:Le Festival Nantes Sous Pression\, c’est bien plus qu’un simple salon de la bière ! \n📍 Rendez-vous les 13 et 14 septembre 2025 au Solilab pour le Grand Final : deux jours de découvertes brassicoles\, de rencontres et de bonne humeur ! \nMais ce n’est pas tout…\n🔥 Dès le 8 septembre\, une semaine entière d’événements vous attend : TTO (Tap Take Over)\, ateliers dégustation\, animations avec des brasseries locales\, nationales et internationales dans tout Nantes et sa métropole\, chez nos bars et partenaires. \nREVEAL PROGRAMMATION NANTES SOUS PRESSION 2025 🥰🥰 \nToute l’équipe du @nantes_beer_club a travaillé dur ces derniers mois et nous sommes très fier.ères de vous présenter la programmation complète de Nantes Sous Pression 2025 ! \nEn plus de ce super programme\, vous retrouverez également 1 stand sans alcool\, ainsi que de nombreux food trucks et conférences tout au long du week end. \nNous vous attendons nombreux.ses la semaine du 08 septembre pour les évènements organisés dans toute la métropole nantaise chaque jour avec nos partenaires (bars\, brasseries\, restaurants..)\, ainsi que pour le grand final au Solilab les 13 et 14 septembre !\nPlus d’infos à venir concernant l’évènement \nOn vous attends encore nombreux.ses cette année !!!! \nCheers 🍻🍻 \nLes brasseries de dingue de Nantes Sous Pression 2025⤵️ \n@1989brewing / @brasserieaerofab / @bbopfermentory / @beakbrewery / @fusionbrasserie_ / @boerenerf / @brasseriedupont / @bubarnantes / @lacaveparallele / @brasserie_cambier / @choque_microbrasserie / @cloudwaterbrew / @labo_compoz / @de.mederie / @doskiwisbrewing / @fatwombatbrewing / @fauvebiere / @globemicrobrasserie / horla / @brasserielabestiole / @cidrerieducondroz / @lamanufpoitiers / @brasseriespontanerie / @brasserielasuperbe / @les_brasseurs_de_la_jonte / @lesdanaides.brasserie / @lesintenablescraftbeer / @moersleutelcraftbrewery / @mogwai_beer_company / @brasserienautile / @noiseless.beer / @nootkabeerco / @osma_bxl / @ouestcoastbrewery / @penrose.angers / @popihn_brewery / @prizmbrewing / @brasserie_sans_facon / @brasserie_sauvage / @savoycraft / @soqueebrewing / @sparklequiberon / @spore_coop / @brasserietetehaute / @brasseriedeladivatte / @vaultcitybrewing /@whiplashbeer
URL:https://brewerssocialclub.com/event/nantes-sous-pression/
LOCATION:Nantes sous pression\, 8 Rue de Saint Domingue\, Nantes\, 44200\, France
CATEGORIES:Festivals
ATTACH;FMTTYPE=image/webp:https://brewerssocialclub.com/wp-content/uploads/2025/07/nsp-affiche-1-296bbb29346947479632c265f283daef-scaled.webp
END:VEVENT
END:VCALENDAR