BEGIN:VCALENDAR
VERSION:2.0
PRODID:-//Brewers Social Club - ECPv6.15.20//NONSGML v1.0//EN
CALSCALE:GREGORIAN
METHOD:PUBLISH
X-WR-CALNAME:Brewers Social Club
X-ORIGINAL-URL:https://brewerssocialclub.com
X-WR-CALDESC:Évènements pour Brewers Social Club
REFRESH-INTERVAL;VALUE=DURATION:PT1H
X-Robots-Tag:noindex
X-PUBLISHED-TTL:PT1H
BEGIN:VTIMEZONE
TZID:Europe/Paris
BEGIN:DAYLIGHT
TZOFFSETFROM:+0100
TZOFFSETTO:+0200
TZNAME:CEST
DTSTART:20240331T010000
END:DAYLIGHT
BEGIN:STANDARD
TZOFFSETFROM:+0200
TZOFFSETTO:+0100
TZNAME:CET
DTSTART:20241027T010000
END:STANDARD
BEGIN:DAYLIGHT
TZOFFSETFROM:+0100
TZOFFSETTO:+0200
TZNAME:CEST
DTSTART:20250330T010000
END:DAYLIGHT
BEGIN:STANDARD
TZOFFSETFROM:+0200
TZOFFSETTO:+0100
TZNAME:CET
DTSTART:20251026T010000
END:STANDARD
BEGIN:DAYLIGHT
TZOFFSETFROM:+0100
TZOFFSETTO:+0200
TZNAME:CEST
DTSTART:20260329T010000
END:DAYLIGHT
BEGIN:STANDARD
TZOFFSETFROM:+0200
TZOFFSETTO:+0100
TZNAME:CET
DTSTART:20261025T010000
END:STANDARD
END:VTIMEZONE
BEGIN:VEVENT
DTSTART;TZID=Europe/Paris:20250822T170000
DTEND;TZID=Europe/Paris:20250822T170000
DTSTAMP:20260423T005347
CREATED:20250805T121023Z
LAST-MODIFIED:20250806T113924Z
UID:504-1755882000-1755882000@brewerssocialclub.com
SUMMARY:Soirée avec la Brasserie Arcka chez Bieronomy Seynod
DESCRIPTION:Le vendredi 22 août\, c’est la Brasserie Arcka qui prend le contrôle des tireuses chez Bieronomy Seynod ! 🔥 \nAu programme de cette soirée TTO (Tap Take Over) :\n👉 Une sélection pointue de bières craft Arcka à découvrir à la pression et en canettes & bouteilles\n👉 Des styles variés\, des créations audacieuses et du houblon en pagaille\n👉 Une belle occasion d’échanger autour de la brasserie et de déguster leurs dernières pépites dans une ambiance conviviale\n👉 Présence de Franck\, co-fondateur de la brasserie\, pour échanger\, partager et parler bière comme jamais ! \n📍 Où ? Bieronomy Seynod\n📅 Quand ? Vendredi 22 août 2025 à partir de 17h. Fermeture du Bar Bieronomy Seynod vers 00h/01h\n🎶 Bonne ambiance\, bières fraîches et passion partagée au rendez-vous ! \nViens découvrir (ou redécouvrir) cette brasserie française qui monte 🍻 \n🍺 Tap List / Liste des bières qui seront servies à la pression lors de l’événement : À venir
URL:https://brewerssocialclub.com/event/soiree-avec-la-brasserie-arcka-chez-bieronomy-seynod/
LOCATION:Bieronomy Syenod\, 1152 Av. d'Aix-les-Bains\, Annecy\, 74600
CATEGORIES:TTO
ATTACH;FMTTYPE=image/webp:https://brewerssocialclub.com/wp-content/uploads/2025/08/TTO-ARCKA-BIERONOMY-1.webp
END:VEVENT
END:VCALENDAR