BEGIN:VCALENDAR
VERSION:2.0
PRODID:-//Brewers Social Club - ECPv6.15.20//NONSGML v1.0//EN
CALSCALE:GREGORIAN
METHOD:PUBLISH
X-WR-CALNAME:Brewers Social Club
X-ORIGINAL-URL:https://brewerssocialclub.com
X-WR-CALDESC:Évènements pour Brewers Social Club
REFRESH-INTERVAL;VALUE=DURATION:PT1H
X-Robots-Tag:noindex
X-PUBLISHED-TTL:PT1H
BEGIN:VTIMEZONE
TZID:Europe/Paris
BEGIN:DAYLIGHT
TZOFFSETFROM:+0100
TZOFFSETTO:+0200
TZNAME:CEST
DTSTART:20240331T010000
END:DAYLIGHT
BEGIN:STANDARD
TZOFFSETFROM:+0200
TZOFFSETTO:+0100
TZNAME:CET
DTSTART:20241027T010000
END:STANDARD
BEGIN:DAYLIGHT
TZOFFSETFROM:+0100
TZOFFSETTO:+0200
TZNAME:CEST
DTSTART:20250330T010000
END:DAYLIGHT
BEGIN:STANDARD
TZOFFSETFROM:+0200
TZOFFSETTO:+0100
TZNAME:CET
DTSTART:20251026T010000
END:STANDARD
BEGIN:DAYLIGHT
TZOFFSETFROM:+0100
TZOFFSETTO:+0200
TZNAME:CEST
DTSTART:20260329T010000
END:DAYLIGHT
BEGIN:STANDARD
TZOFFSETFROM:+0200
TZOFFSETTO:+0100
TZNAME:CET
DTSTART:20261025T010000
END:STANDARD
END:VTIMEZONE
BEGIN:VEVENT
DTSTART;VALUE=DATE:20250801
DTEND;VALUE=DATE:20250805
DTSTAMP:20260423T010149
CREATED:20250730T065902Z
LAST-MODIFIED:20250730T065902Z
UID:441-1754006400-1754351999@brewerssocialclub.com
SUMMARY:43e édition de la Fête de la Bière
DESCRIPTION:Fort d’un héritage brassicole riche et d’une affluence de plus de 30 000 visiteurs chaque année\, l’OSCAL – Office des Sports\, de la Culture\, des Arts et des Loisirs de Schiltigheim en partenariat avec la Ville de Schiltigheim\, Les Brasseurs d’Alsace et la Corporation des Brasseries Artisanales d’Alsace\, annonce sa 43ème édition de la Fête de la Bière* qui se tiendra du 1er au 04 août 2025\, Place Alfred Muller (anciennement Place de l’Hôtel de Ville) – 110 route de Bischwiller à Schiltigheim. \n    43 ans de mousse et de bonne humeur à Schiltigheim ! \nPlacée sous le signe du folklore et des traditions brassicoles alsaciennes\, cette nouvelle édition s’inscrit dans la continuité des précédentes : engagée\, solidaire et éco-responsable. \nL’occasion de (re)-découvrir notre brasseur partenaire STORIG\, fleuron local qui proposera un brassin exclusif dédié à la Fête de la Bière* : la STORIG Rosée ! \nLa Fête de la Bière* mettra également à l’honneur la richesse et la diversité des bières locales\, à travers la présence de 6 autres brasseries alsaciennes : LICORNE\, METEOR\, KRONENBOURG\, FISCHER\, PERLE et BENDORF. Une vingtaine de bières* à déguster dans un verre collector 2025 ! \nPour cette troisième année sera également renouvelé le jumelage brassicole symbolique entre la Ville de Schiltigheim et la Ville de Saverne. \nAu programme cette année une ambiance festive avec la présence de ROBIN LEON et du Live ! Karaoké tout comme le traditionnel concours du levé de fûts\, de la restauration traditionnelle et la mobilisation de plus de 800 bénévoles issus du tissu associatif schilikois. Et pour animer les quatre jours de festivités sous le chapiteau\, nous aurons le plaisir de retrouver Jean-Luc FILSER\, speaker du Racing Club de Strasbourg ! \nRetrouvez le lundi 04 août\, le Johrmärik et le vide-grenier organisés par l‘UCAS dans le centre-ville de Schiltigheim.\n \nBrasseurs présents lors de cette 43e édition : \n    BRASSERIE METEOR\n    BRASSERIES KRONENBOURG\n    BRASSERIE BENDORF\n    BRASSERIE PERLE\n    BRASSERIE LICORNE\n    BRASSERIE DE L’ESPERANCE\n    Sans oublier la brasserie schilikoise : BRASSERIE STORIG \nChaque soir\, des animations et autres surprises vous seront proposées. Famille\, amis\, toutes générations\, passionnées ou amateurs\, partenaires et professionnels\, venez célébrer cette nouvelle édition ! \n*L’abus d’alcool est dangereux pour la santé. A consommer avec modération.
URL:https://brewerssocialclub.com/event/43e-edition-de-la-fete-de-la-biere/
LOCATION:110 route de Bischwiller à Schiltigheim\, 110 route de Bischwiller\, Schiltigheim\, 67300\, France
CATEGORIES:Festivals
ATTACH;FMTTYPE=image/webp:https://brewerssocialclub.com/wp-content/uploads/2025/07/501031270_1014216494188607_7999458788824031055_n.webp
END:VEVENT
END:VCALENDAR